BEGIN:VCALENDAR
VERSION:2.0
PRODID:-// - ECPv6.0.0.1//NONSGML v1.0//EN
CALSCALE:GREGORIAN
METHOD:PUBLISH
X-ORIGINAL-URL:https://www.interkultur-ev.net
X-WR-CALDESC:Events for 
REFRESH-INTERVAL;VALUE=DURATION:PT1H
X-Robots-Tag:noindex
X-PUBLISHED-TTL:PT1H
BEGIN:VTIMEZONE
TZID:Europe/Berlin
BEGIN:DAYLIGHT
TZOFFSETFROM:+0100
TZOFFSETTO:+0200
TZNAME:CEST
DTSTART:20260329T010000
END:DAYLIGHT
BEGIN:STANDARD
TZOFFSETFROM:+0200
TZOFFSETTO:+0100
TZNAME:CET
DTSTART:20261025T010000
END:STANDARD
END:VTIMEZONE
BEGIN:VEVENT
DTSTART;TZID=Europe/Berlin:20260508T190000
DTEND;TZID=Europe/Berlin:20260508T210000
DTSTAMP:20260425T141131
CREATED:20260417T131859Z
LAST-MODIFIED:20260417T133350Z
UID:10018799-1778266800-1778274000@www.interkultur-ev.net
SUMMARY:Kaleidoskop - Die offene Erzählbühne
DESCRIPTION:Am Freitag\, den 8.5. könnt ihr nicht nur eigene Geschichten erzählen\, sondern auch der professionellen Erzählkünstlerin Birgit Fritz lauschen\, der Stimme des Erzähltheaters MärSinn aus Düsseldorf. Euch erwartet ein Improvisations-Erzählabend. \n“Wer wünscht sich nicht das Haus seiner Träume – und dann noch voll möbliert? Das kaufwillige Publikum wählt den Stil des Hauses\, legt die Räume/Besonderheiten fest und schon beginnt die Besichtigung.\nSo wie im wahren Leben verbergen sich Geschichten hinter Türen und in Schubladen\, alles ist möglich\, alles improvisiert! Kommen Sie mit\, treppauf\, treppab\, auf diese besondere und einmalige Hausbesichtigung.” \nWer Lust hat\, kann sich selbst im Erzählen ausprobieren! Die Bühne ist offen für alle. Die nächste Termin der offenen Erzählbühne ist der 10. Juli! \nErzählkunst ist UNESCO-Weltkulturerbe und wir geben ihr im Jahr 2026 einen Erzählraum – bei uns in Köln-Mülheim! \nIm September findet außerdem ein großes Erzählfestival für Familien statt. Tragt euch schon den 24. – 27. 09.2026 in den Kalender ein! \nDanke an die LVR-Regionale Kulturförderung. \n 
URL:https://www.interkultur-ev.net/kalender/kaleidoskop-die-offene-erzaehlbuehne/
LOCATION:Bürgerhaus MüZe\, Berliner Str. 77\, Köln-Mühlheim\, 51063
ATTACH;FMTTYPE=image/png:https://www.interkultur-ev.net/wp-content/uploads/2026/04/Beitrag-8.5.-Seite-2.png
END:VEVENT
END:VCALENDAR